BEGIN:VCALENDAR
VERSION:2.0
PRODID:-//eventon.com NONSGML v1.0//EN
BEGIN:VEVENT
UID:69e75057f182c
DTSTAMP:20260421T122423
DTSTART:20260514T210000Z
DTEND:20260514T214500Z
TZID:Pacific/Midway
LOCATION:Ev. Kirche Ostheim Kirchgasse 2a\,  61130 Nidderau
SUMMARY:Himmelfahrtgottesdienst\,  in Ostheim
DESCRIPTION: Gottesdienst Leitung: Heidi Nünninghoff Musik: Volker Hobert\nhttps://kirchenkreis-hanau.de/events/himmelfahrtgottesdienst-in-ostheim/
URL:https://kirchenkreis-hanau.de/events/himmelfahrtgottesdienst-in-ostheim/
END:VEVENT
END:VCALENDAR