BEGIN:VCALENDAR
VERSION:2.0
PRODID:-//eventon.com NONSGML v1.0//EN
BEGIN:VEVENT
UID:69e741735b5d2
DTSTAMP:20260421T112051
DTSTART:20260514T100000Z
DTEND:20260514T110000Z
TZID:UTC
LOCATION:
SUMMARY:Gottesdienst in Niederdorfelden an der Ölmühle - Prädikantin Kolberg
DESCRIPTION: Gottesdienst in Niederdorfelden an der Ölmühle - Prädikantin Kolberg\nhttps://kirchenkreis-hanau.de/events/gottesdienst-in-niederdorfelden-an-der-oelmuehle-praedikantin-kolberg/
URL:https://kirchenkreis-hanau.de/events/gottesdienst-in-niederdorfelden-an-der-oelmuehle-praedikantin-kolberg/
END:VEVENT
END:VCALENDAR