BEGIN:VCALENDAR
VERSION:2.0
PRODID:-//eventon.com NONSGML v1.0//EN
BEGIN:VEVENT
UID:69e779755ef67
DTSTAMP:20260421T151949
DTSTART:20260503T210000Z
DTEND:20260503T220000Z
TZID:Pacific/Midway
LOCATION:Ev. Kirche Kilianstädten Kirchplatz 1a\,  61137 Kilianstädten
SUMMARY:Gottesdienst in Kilianstädten - Lektor Emmerich
DESCRIPTION: Gottesdienst in Kilianstädten - Lektor Emmerich\nhttps://kirchenkreis-hanau.de/events/gottesdienst-in-kilianstaedten-lektor-emmerich/
URL:https://kirchenkreis-hanau.de/events/gottesdienst-in-kilianstaedten-lektor-emmerich/
END:VEVENT
END:VCALENDAR