BEGIN:VCALENDAR
VERSION:2.0
PRODID:-//eventon.com NONSGML v1.0//EN
BEGIN:VEVENT
UID:69e5200405c56
DTSTAMP:20260419T203340
DTSTART:20260426T210000Z
DTEND:20260426T220000Z
TZID:Pacific/Midway
LOCATION:Ev. Kirche Oberdorfelden Alte Dorfstraße 12\,  61137 Schöneck
SUMMARY:Gottesdienst in Oberdorfelden - Pfarrerin Johanna Reuhl
DESCRIPTION: Gottesdienst in Oberdorfelden - Pfarrerin Johanna Reuhl\nhttps://kirchenkreis-hanau.de/events/gottesdienst-in-oberdorfelden-pfarrerin-johanna-reuhl/
URL:https://kirchenkreis-hanau.de/events/gottesdienst-in-oberdorfelden-pfarrerin-johanna-reuhl/
END:VEVENT
END:VCALENDAR