BEGIN:VCALENDAR
VERSION:2.0
PRODID:-//eventon.com NONSGML v1.0//EN
BEGIN:VEVENT
UID:69e5091ab01af
DTSTAMP:20260419T185554
DTSTART:20260419T210000Z
DTEND:20260419T220000Z
TZID:Pacific/Midway
LOCATION:Ev. Kirche Kilianstädten Kirchplatz 1a\,  61137 Kilianstädten
SUMMARY:Vorstellungs-Gottesdienst der Konfirmanden in Kilianstädten
DESCRIPTION: Vorstellungs-Gottesdienst der Konfirmanden in Kilianstädten\nhttps://kirchenkreis-hanau.de/events/vorstellungs-gottesdienst-der-konfirmandinnen-in-kilianstaedten/
URL:https://kirchenkreis-hanau.de/events/vorstellungs-gottesdienst-der-konfirmandinnen-in-kilianstaedten/
END:VEVENT
END:VCALENDAR