BEGIN:VCALENDAR
VERSION:2.0
PRODID:-//eventon.com NONSGML v1.0//EN
BEGIN:VEVENT
UID:69e4ed830e5b2
DTSTAMP:20260419T165811
DTSTART:20260413T023000Z
DTEND:20260413T050000Z
TZID:Pacific/Midway
LOCATION:Katholisches Gemeindezentrum - Bleichstraße 18 
SUMMARY:Kirche Kunterbunt im katholischen Gemeindezentrum in Kilianstädten - Bleichstraße 18 - Lisbeth Stüve und Team
DESCRIPTION: Kirche Kunterbunt im katholischen Gemeindezentrum in Kilianstädten - Bleichstraße 18 - Lisbeth Stüve und Team\nhttps://kirchenkreis-hanau.de/events/kirche-kunterbunt-im-katholischen-gemeindezentrum-in-kilianstaedten-bleichstrasse-18-lisbeth-stueve-und-team/
URL:https://kirchenkreis-hanau.de/events/kirche-kunterbunt-im-katholischen-gemeindezentrum-in-kilianstaedten-bleichstrasse-18-lisbeth-stueve-und-team/
END:VEVENT
END:VCALENDAR