BEGIN:VCALENDAR
VERSION:2.0
PRODID:-//eventon.com NONSGML v1.0//EN
BEGIN:VEVENT
UID:69e4d38b3e942
DTSTAMP:20260419T150723
DTSTART:20260414T150000Z
DTEND:20260414T170000Z
TZID:UTC
LOCATION:
SUMMARY:Frauenkreis trifft sich
DESCRIPTION: Der Frauenkreis findet einmal im Monat statt: ein gemeinsames Zusammensein und gelegentliche Unternehmungen. Im April ausnahmsweise an einem Dienstag! Unser Termin für April: 14.4.26 Treffpunkt am Familienmarkt um 15:00 Uhr. Wir wollen im ehemaligen Familienmarkt „ Samt und Sonders XXL“ stöbern. Kontakt: E. Hassenpflug – Tel.:22517\nhttps://kirchenkreis-hanau.de/events/frauenkreis-trifft-sich/
URL:https://kirchenkreis-hanau.de/events/frauenkreis-trifft-sich/
END:VEVENT
END:VCALENDAR