BEGIN:VCALENDAR
VERSION:2.0
PRODID:-//eventon.com NONSGML v1.0//EN
BEGIN:VEVENT
UID:69e73d5b32b7e
DTSTAMP:20260421T110323
DTSTART:20260608T060000Z
DTEND:20260608T105000Z
TZID:Pacific/Midway
LOCATION:Ev. Kirche Roßdorf Kirchstraße 19\,  63486 Bruchköbel
SUMMARY:19:00 Uhr Gottesdienst
DESCRIPTION: Herzliche Einladung zum Gottesdienst mit Lektorin Sabine Stiller.\nhttps://kirchenkreis-hanau.de/events/1900-uhr-gottesdienst/
URL:https://kirchenkreis-hanau.de/events/1900-uhr-gottesdienst/
END:VEVENT
END:VCALENDAR