BEGIN:VCALENDAR
VERSION:2.0
PRODID:-//eventon.com NONSGML v1.0//EN
BEGIN:VEVENT
UID:69e740adb113b
DTSTAMP:20260421T111733
DTSTART:20260412T103000Z
DTEND:20260412T113000Z
TZID:UTC
LOCATION:
SUMMARY:Gottesdienst in der Laurentiuskirche
DESCRIPTION: 12.04.\,  Laurentiuskirche\,  Enkheim mit Pfrin Kathrin Fuchs\nhttps://kirchenkreis-hanau.de/events/gottesdienst-in-der-laurentiuskirche-2/
URL:https://kirchenkreis-hanau.de/events/gottesdienst-in-der-laurentiuskirche-2/
END:VEVENT
END:VCALENDAR