BEGIN:VCALENDAR
VERSION:2.0
PRODID:-//eventon.com NONSGML v1.0//EN
BEGIN:VEVENT
UID:69e4ec86ddda8
DTSTAMP:20260419T165358
DTSTART:20260406T103000Z
DTEND:20260406T113000Z
TZID:UTC
LOCATION:
SUMMARY:Ostermontag\,  Gottesdienst für Kurze und Lange
DESCRIPTION: 06. April\,  10:30 Uhr\,  Gemeindezentrum Bergen mit Pfrin Kathrin Fuchs und Kigo-Team und Konrad Borchardt an den Tasten mit Osterfrühstück und Eiersuche\nhttps://kirchenkreis-hanau.de/events/ostermontag-gottesdienst-fuer-kurze-und-lange/
URL:https://kirchenkreis-hanau.de/events/ostermontag-gottesdienst-fuer-kurze-und-lange/
END:VEVENT
END:VCALENDAR