BEGIN:VCALENDAR
VERSION:2.0
PRODID:-//eventon.com NONSGML v1.0//EN
BEGIN:VEVENT
UID:69e4ed2709f37
DTSTAMP:20260419T165639
DTSTART:20260326T050000Z
DTEND:20260326T060000Z
TZID:Pacific/Midway
LOCATION:Ev. Gemeindehaus Kilianstädten Bleichstr. 14
SUMMARY:Friedensgebet im Gemeindehaus in Kilianstädten - Team Friedensgebet
DESCRIPTION: Friedensgebet im Gemeindehaus in Kilianstädten - Team Friedensgebet\nhttps://kirchenkreis-hanau.de/events/friedensgebet-im-gemeindehaus-in-kilianstaedten-team-friedensgebet/
URL:https://kirchenkreis-hanau.de/events/friedensgebet-im-gemeindehaus-in-kilianstaedten-team-friedensgebet/
END:VEVENT
END:VCALENDAR