BEGIN:VCALENDAR
VERSION:2.0
PRODID:-//eventon.com NONSGML v1.0//EN
BEGIN:VEVENT
UID:69e7682f0b3ad
DTSTAMP:20260421T140607
DTSTART:20260226T020000Z
DTEND:20260226T040000Z
TZID:Pacific/Midway
LOCATION:
SUMMARY:Seniorenclub
DESCRIPTION: Alle Seniorinnen und Senioren sind herzlich eingeladen zum Seniorenclub ins ev. Gemeindezentrum\,  Bergen\,  Am Königshof 5-7. Frau Janz und ihr Team freuen sich auf alle\,  die kommen.\nhttps://kirchenkreis-hanau.de/events/seniorenclub-6/
URL:https://kirchenkreis-hanau.de/events/seniorenclub-6/
END:VEVENT
END:VCALENDAR