BEGIN:VCALENDAR
VERSION:2.0
PRODID:-//eventon.com NONSGML v1.0//EN
BEGIN:VEVENT
UID:69e754c28b331
DTSTAMP:20260421T124314
DTSTART:20260308T210000Z
DTEND:20260308T220000Z
TZID:Pacific/Midway
LOCATION:Ev. Kirche Oberdorfelden Alte Dorfstraße 12\,  61137 Schöneck
SUMMARY:Gottesdienst in Oberdorfelden - Prädikant Jürgen Dietermann
DESCRIPTION: Gottesdienst in Oberdorfelden - Prädikant Jürgen Dietermann\nhttps://kirchenkreis-hanau.de/events/gottesdienst-in-oberdorfelden-praedikant-juergen-dietermann/
URL:https://kirchenkreis-hanau.de/events/gottesdienst-in-oberdorfelden-praedikant-juergen-dietermann/
END:VEVENT
END:VCALENDAR