BEGIN:VCALENDAR
VERSION:2.0
PRODID:-//eventon.com NONSGML v1.0//EN
BEGIN:VEVENT
UID:69e754b0d6d93
DTSTAMP:20260421T124256
DTSTART:20260320T060000Z
DTEND:20260320T070000Z
TZID:Pacific/Midway
LOCATION:Marienkirche Hanau Am Goldschmiedehaus 1\,  63450 Hanau
SUMMARY:Einblick in die neue EKD-Friedensdenkschrift\,  in der Marienkirche
DESCRIPTION: Pfarrer Lukas Ohly\,  der neben seinem Pfarramt Dozent für Theologische Ethik an der Frankfurter Goethe-Universität ist\,  wird am Donnerstag\,  19. März dem 81. Gedenktag der Bombardierung Hanaus 19 Uhr in der Marienkirche am Hanauer Freiheitsplatz die Friedensdenkschrift der Evangelischen Kirche in Deutschland (EKD) vorstellen. Sie trägt den Titel „Welt in[..]\nhttps://kirchenkreis-hanau.de/events/einblick-in-die-neue-ekd-friedensdenkschrift-in-der-marienkirche/
URL:https://kirchenkreis-hanau.de/events/einblick-in-die-neue-ekd-friedensdenkschrift-in-der-marienkirche/
END:VEVENT
END:VCALENDAR