BEGIN:VCALENDAR
VERSION:2.0
PRODID:-//eventon.com NONSGML v1.0//EN
BEGIN:VEVENT
UID:69e4d5d30e7ab
DTSTAMP:20260419T151707
DTSTART:20260325T053000Z
DTEND:20260325T064500Z
TZID:Pacific/Midway
LOCATION:Ev. Kirche Ostheim Kirchgasse 2a\,  61130 Nidderau
SUMMARY:Passionsandacht\,  in Ostheim
DESCRIPTION: Eine musikalische Passionsandacht gestaltet der Gitarrenkreis am Dienstag\,  24. März\,  18.30 Uhr\,  in der Kirche. Die Musik wird umrahmt von Texten zur Passion Christi. Pfarrer Lukas Ohly leitet die Andacht.\nhttps://kirchenkreis-hanau.de/events/passionsandacht-in-ostheim/
URL:https://kirchenkreis-hanau.de/events/passionsandacht-in-ostheim/
END:VEVENT
END:VCALENDAR