BEGIN:VCALENDAR
VERSION:2.0
PRODID:-//eventon.com NONSGML v1.0//EN
BEGIN:VEVENT
UID:69e4d59436119
DTSTAMP:20260419T151604
DTSTART:20260412T210000Z
DTEND:20260412T214500Z
TZID:Pacific/Midway
LOCATION:Ev. Kirche Ostheim Kirchgasse 2a\,  61130 Nidderau
SUMMARY:Gottesdienst\,  in Ostheim
DESCRIPTION: Gottesdienst Leitung: Lukas Ohly Musik: Volker Hobert\nhttps://kirchenkreis-hanau.de/events/gottesdienst-in-ostheim-24/
URL:https://kirchenkreis-hanau.de/events/gottesdienst-in-ostheim-24/
END:VEVENT
END:VCALENDAR