BEGIN:VCALENDAR
VERSION:2.0
PRODID:-//eventon.com NONSGML v1.0//EN
BEGIN:VEVENT
UID:69e73dc35ed76
DTSTAMP:20260421T110507
DTSTART:20260405T210000Z
DTEND:20260405T214500Z
TZID:Pacific/Midway
LOCATION:Ev. Kirche Ostheim Kirchgasse 2a\,  61130 Nidderau
SUMMARY:Ostersonntag mit Abendmahl\,  in Ostheim
DESCRIPTION: An Ostersonntag am 5. April\,  wird Pfarrer Lukas Ohly ab 10 Uhr gemeinsam mit dem Posaunenchor den Ostergottesdienst leiten. Leitung: Lukas Ohly Musik: Posaunenchor Ostheim e. V.\nhttps://kirchenkreis-hanau.de/events/ostersonntag-mit-abendmahl-in-ostheim/
URL:https://kirchenkreis-hanau.de/events/ostersonntag-mit-abendmahl-in-ostheim/
END:VEVENT
END:VCALENDAR