BEGIN:VCALENDAR
VERSION:2.0
PRODID:-//eventon.com NONSGML v1.0//EN
BEGIN:VEVENT
UID:69e7548953f66
DTSTAMP:20260421T124217
DTSTART:20260404T010000Z
DTEND:20260404T013000Z
TZID:Pacific/Midway
LOCATION:Ev. Kirche Ostheim Kirchgasse 2a\,  61130 Nidderau
SUMMARY:Karfreitag-Gottesdienst\,  in Ostheim
DESCRIPTION: Zur Todesstunde Jesu am Karfreitag\,  3. April\,  14 Uhr\,  wird ein Gottesdienst mit Abendmahl gehalten. Leitung: Lukas Ohly Musik: Rushaniya Salakhova\nhttps://kirchenkreis-hanau.de/events/karfreitag-gottesdienst-in-ostheim/
URL:https://kirchenkreis-hanau.de/events/karfreitag-gottesdienst-in-ostheim/
END:VEVENT
END:VCALENDAR