BEGIN:VCALENDAR
VERSION:2.0
PRODID:-//eventon.com NONSGML v1.0//EN
BEGIN:VEVENT
UID:69e73d7558e0e
DTSTAMP:20260421T110349
DTSTART:20260329T210000Z
DTEND:20260329T214500Z
TZID:Pacific/Midway
LOCATION:Ev. Kirche Ostheim Kirchgasse 2a\,  61130 Nidderau
SUMMARY:Palmsonntaggottesdienst\,  in Ostheim mit dem  Landfrauenverein
DESCRIPTION: Die Ostheimer Kirchengemeinde versammelt sich in der Passionszeit von Aschermittwoch bis Karsamstag in einem großen Kreis. Hierzu wurden die Kirchenbänke in einen großen Kreis um den Altar gestellt. Damit soll die Gemeinschaft erinnert und vertieft werden\,  die Christus mit den Jüngern bis zu seinem Tod und dann wieder seit seiner[..]\nhttps://kirchenkreis-hanau.de/events/palmsonntaggottesdienst-in-ostheim-mit-dem-landfrauenverein/
URL:https://kirchenkreis-hanau.de/events/palmsonntaggottesdienst-in-ostheim-mit-dem-landfrauenverein/
END:VEVENT
END:VCALENDAR