BEGIN:VCALENDAR
VERSION:2.0
PRODID:-//eventon.com NONSGML v1.0//EN
BEGIN:VEVENT
UID:69e74152949d0
DTSTAMP:20260421T112018
DTSTART:20260503T210000Z
DTEND:20260503T220000Z
TZID:Pacific/Midway
LOCATION:Ev. Brückenkirche Heldenbergen Bahnhofstraße 42\,  61130 Nidderau
SUMMARY:stadtweiter Kantate-Gottesdienst u.a. mit Chor Spirit Power
DESCRIPTION: Stadtweiter Musik-Gottesdienst an Kantate Die Nidderauer Kirchengemeinden haben ein breites Angebot an Musikensem- bles. Mit ihnen gemeinsam wird das Fest „Kantate“ (zu deutsch: Singet) stadt- weit gefeiert. Am Sonntag\,  3. Mai\,  gestalten Instrumental- und Vokalensem- bles der Kirchengemeinden den Gottesdienst\,  der ab 10 Uhr gefeiert wird. Als Ort haben die[..]\nhttps://kirchenkreis-hanau.de/events/stadtweiter-kantate-gottesdienst-u-a-mit-chor-spirit-power/
URL:https://kirchenkreis-hanau.de/events/stadtweiter-kantate-gottesdienst-u-a-mit-chor-spirit-power/
END:VEVENT
END:VCALENDAR