BEGIN:VCALENDAR
VERSION:2.0
PRODID:-//eventon.com NONSGML v1.0//EN
BEGIN:VEVENT
UID:69e7412d846ab
DTSTAMP:20260421T111941
DTSTART:20260419T210000Z
DTEND:20260419T220000Z
TZID:Pacific/Midway
LOCATION:Ev. Brückenkirche Heldenbergen Bahnhofstraße 42\,  61130 Nidderau
SUMMARY:Gottesdienst mit Konfirmation
DESCRIPTION: Misericordias Domini &nbsp; &nbsp; &nbsp;\nhttps://kirchenkreis-hanau.de/events/gottesdienst-mit-konfirmation/
URL:https://kirchenkreis-hanau.de/events/gottesdienst-mit-konfirmation/
END:VEVENT
END:VCALENDAR