BEGIN:VCALENDAR
VERSION:2.0
PRODID:-//eventon.com NONSGML v1.0//EN
BEGIN:VEVENT
UID:69e75043a130f
DTSTAMP:20260421T122403
DTSTART:20260412T210000Z
DTEND:20260412T220000Z
TZID:Pacific/Midway
LOCATION:Ev. Brückenkirche Heldenbergen Bahnhofstraße 42\,  61130 Nidderau
SUMMARY:Gottesdienst zur Vorstellung der Konfirmanden
DESCRIPTION: Quasimodigeniti &nbsp; &nbsp; &nbsp;\nhttps://kirchenkreis-hanau.de/events/gottesdienst-zur-vorstellung-der-konfirmanden/
URL:https://kirchenkreis-hanau.de/events/gottesdienst-zur-vorstellung-der-konfirmanden/
END:VEVENT
END:VCALENDAR