BEGIN:VCALENDAR
VERSION:2.0
PRODID:-//eventon.com NONSGML v1.0//EN
BEGIN:VEVENT
UID:69e768109c3bd
DTSTAMP:20260421T140536
DTSTART:20260405T220000Z
DTEND:20260405T230000Z
TZID:Pacific/Midway
LOCATION:Ev. Brückenkirche Heldenbergen Bahnhofstraße 42\,  61130 Nidderau
SUMMARY:Familiengottesdienst mit KiTa
DESCRIPTION: Ostersonntag &nbsp; &nbsp; &nbsp;\nhttps://kirchenkreis-hanau.de/events/familiengottesdienst-mit-kita/
URL:https://kirchenkreis-hanau.de/events/familiengottesdienst-mit-kita/
END:VEVENT
END:VCALENDAR