BEGIN:VCALENDAR
VERSION:2.0
PRODID:-//eventon.com NONSGML v1.0//EN
BEGIN:VEVENT
UID:69e750761f341
DTSTAMP:20260421T122454
DTSTART:20260404T020000Z
DTEND:20260404T030000Z
TZID:Pacific/Midway
LOCATION:Ev. Brückenkirche Heldenbergen Bahnhofstraße 42\,  61130 Nidderau
SUMMARY:Gottesdienst mit Einzelsegnung
DESCRIPTION: Karfreitag &nbsp; &nbsp; &nbsp;\nhttps://kirchenkreis-hanau.de/events/gottesdienst-mit-einzelsegnung-2/
URL:https://kirchenkreis-hanau.de/events/gottesdienst-mit-einzelsegnung-2/
END:VEVENT
END:VCALENDAR