BEGIN:VCALENDAR
VERSION:2.0
PRODID:-//eventon.com NONSGML v1.0//EN
BEGIN:VEVENT
UID:69e767fde3983
DTSTAMP:20260421T140517
DTSTART:20260308T210000Z
DTEND:20260308T220000Z
TZID:Pacific/Midway
LOCATION:Ev. Brückenkirche Heldenbergen Bahnhofstraße 42\,  61130 Nidderau
SUMMARY:Gottesdienst mit Taufmöglichkeit
DESCRIPTION: Okuli &nbsp; &nbsp;\nhttps://kirchenkreis-hanau.de/events/gottesdienst-mit-taifmoeglichkeit/
URL:https://kirchenkreis-hanau.de/events/gottesdienst-mit-taifmoeglichkeit/
END:VEVENT
END:VCALENDAR