BEGIN:VCALENDAR
VERSION:2.0
PRODID:-//eventon.com NONSGML v1.0//EN
BEGIN:VEVENT
UID:69e4d5bdb9d22
DTSTAMP:20260419T151645
DTSTART:20260514T090000Z
DTEND:20260514T215000Z
TZID:Europe/Berlin
LOCATION:
SUMMARY:Gottesdienst
DESCRIPTION: An Christi Himmelfahrt feiern wir einen gemeinsamen Gottesdienst in unserem Kooperationsraum (Stadtkirchengemeinde\,  Kirche am Limes und Kirchengemeinde Kesselstadt): Die Kirche am Limes lädt herzlich ein\,  zu einem Gottesdienst unter freiem Himmel auf dem Vogelschutzgelände im Wald zwischen Großauheim und Großkrotzenburg. Beginn ist um 11 Uhr.\nhttps://kirchenkreis-hanau.de/events/gottesdienst-113/
URL:https://kirchenkreis-hanau.de/events/gottesdienst-113/
END:VEVENT
END:VCALENDAR