BEGIN:VCALENDAR
VERSION:2.0
PRODID:-//eventon.com NONSGML v1.0//EN
BEGIN:VEVENT
UID:69e7682c2f637
DTSTAMP:20260421T140604
DTSTART:20260414T160000Z
DTEND:20260414T215000Z
TZID:Europe/Berlin
LOCATION:
SUMMARY:"Was ist gerecht?"
DESCRIPTION: Fast alle Bücher der Bibel sind in Situationen von politischer Abhängigkeit entstanden. Es werden Geschichten erzählt\,  die die Ungerechtigkeit dieser Welt thematisieren und ihr Gottes Gerechtigkeit entgegen stellen. Wir wollen bekannte Bibeltexte lesen und ihre Interpretation aus der postkolonialen Perspektive kennenlernen. Gemeinsam tauschen wir uns über mögliche Bedeutungen für die[..]\nhttps://kirchenkreis-hanau.de/events/was-ist-gerecht-2/
URL:https://kirchenkreis-hanau.de/events/was-ist-gerecht-2/
END:VEVENT
END:VCALENDAR