BEGIN:VCALENDAR
VERSION:2.0
PRODID:-//eventon.com NONSGML v1.0//EN
BEGIN:VEVENT
UID:69e73d78d4d7f
DTSTAMP:20260421T110352
DTSTART:20260602T170000Z
DTEND:20260602T215000Z
TZID:Europe/Berlin
LOCATION:Alte Johanneskirche Johanneskirchplatz 1\,  63450 Hanau
SUMMARY:Hanauer Bibel-Koran-Gespräche
DESCRIPTION: Interreligiöse und interkonfessionelle Gespräche über die Heiligen Schriften von Christen und Muslimen. Es sind alle willkommen\,  egal welcher Konfession\,  ob mit oder ohne Vorkenntnisse\,  ob gläubig oder einfach interessiert. Voraussetzung: Die Offenheit\,  Menschen anderen Glaubens zu begegnen und sich respektvoll über ihre Heiligen Schriften auszutauschen. Begeben Sie sich auf eine[..]\nhttps://kirchenkreis-hanau.de/events/hanauer-bibel-koran-gespraeche-7/
URL:https://kirchenkreis-hanau.de/events/hanauer-bibel-koran-gespraeche-7/
END:VEVENT
END:VCALENDAR