BEGIN:VCALENDAR
VERSION:2.0
PRODID:-//eventon.com NONSGML v1.0//EN
BEGIN:VEVENT
UID:69e7340898e3f
DTSTAMP:20260421T102336
DTSTART:20260326T180000Z
DTEND:20260326T225000Z
TZID:Europe/Berlin
LOCATION:Neue Johanneskirche Frankfurter Landstraße 17\,  63452 Hanau
SUMMARY:Hanauer Bibel-Koran-Gespräche
DESCRIPTION: Interreligiöse und interkonfessionelle Gespräche über die Heiligen Schriften von Christen und Muslimen. Es sind alle willkommen\,  egal welcher Konfession\,  ob mit oder ohne Vorkenntnisse\,  ob gläubig oder einfach interessiert. Voraussetzung: Die Offenheit\,  Menschen anderen Glaubens zu begegnen und sich respektvoll über ihre Heiligen Schriften auszutauschen. Begeben Sie sich auf eine[..]\nhttps://kirchenkreis-hanau.de/events/hanauer-bibel-koran-gespraeche-5/
URL:https://kirchenkreis-hanau.de/events/hanauer-bibel-koran-gespraeche-5/
END:VEVENT
END:VCALENDAR