BEGIN:VCALENDAR
VERSION:2.0
PRODID:-//eventon.com NONSGML v1.0//EN
BEGIN:VEVENT
UID:69e768101c3f2
DTSTAMP:20260421T140536
DTSTART:20260523T080000Z
DTEND:20260523T215000Z
TZID:Europe/Berlin
LOCATION:Neue Johanneskirche Frankfurter Landstraße 17\,  63452 Hanau
SUMMARY:Djembe Workshop
DESCRIPTION: Rhythmen entdecken\,  gemeinsam trommeln und die Grundlagen des Djembe-Spiels kennenlernen: Im März startet ein Trommelworkshop mit Chid Chamberlain in der Neuen Johanneskirche. Der Workshop findet zweimal im Monat statt. Anmeldung per Mail an werner.kahl@ekkw.de. Alle Termine des Workshops im Überblick: 21. März 28. März 11. April 25. April 02. Mai[..]\nhttps://kirchenkreis-hanau.de/events/djembe-workshop-6/
URL:https://kirchenkreis-hanau.de/events/djembe-workshop-6/
END:VEVENT
END:VCALENDAR