BEGIN:VCALENDAR
VERSION:2.0
PRODID:-//eventon.com NONSGML v1.0//EN
BEGIN:VEVENT
UID:69e4d5bd43b99
DTSTAMP:20260419T151645
DTSTART:20260505T173000Z
DTEND:20260505T215000Z
TZID:Europe/Berlin
LOCATION:Alte Johanneskirche Johanneskirchplatz 1\,  63450 Hanau
SUMMARY:Erkundung biblischer Textwelten
DESCRIPTION: Die Bibel ist eine Sammlung von Glaubensschriften aus der Antike. In Geschichte und Gegenwart ist sie für zahllose Menschen überall auf der Welt bedeutsam geworden. Wie ist es dazu gekommen? Wo kommen die in der Bibel versammelten Schriften her und worum geht es in ihnen? In welchen Lebenswelten sind sie[..]\nhttps://kirchenkreis-hanau.de/events/erkundung-biblischer-textwelten-3/
URL:https://kirchenkreis-hanau.de/events/erkundung-biblischer-textwelten-3/
END:VEVENT
END:VCALENDAR