BEGIN:VCALENDAR
VERSION:2.0
PRODID:-//eventon.com NONSGML v1.0//EN
BEGIN:VEVENT
UID:69e73d4543ed8
DTSTAMP:20260421T110301
DTSTART:20260331T173000Z
DTEND:20260331T215000Z
TZID:Europe/Berlin
LOCATION:Alte Johanneskirche Johanneskirchplatz 1\,  63450 Hanau
SUMMARY:Erkundung biblischer Textwelten
DESCRIPTION: Die Bibel ist eine Sammlung von Glaubensschriften aus der Antike. In Geschichte und Gegenwart ist sie für zahllose Menschen überall auf der Welt bedeutsam geworden. Wie ist es dazu gekommen? Wo kommen die in der Bibel versammelten Schriften her und worum geht es in ihnen? In welchen Lebenswelten sind sie[..]\nhttps://kirchenkreis-hanau.de/events/erkundung-biblischer-textwelten/
URL:https://kirchenkreis-hanau.de/events/erkundung-biblischer-textwelten/
END:VEVENT
END:VCALENDAR