BEGIN:VCALENDAR
VERSION:2.0
PRODID:-//eventon.com NONSGML v1.0//EN
BEGIN:VEVENT
UID:69e76836c8bf5
DTSTAMP:20260421T140614
DTSTART:20260319T180000Z
DTEND:20260319T225000Z
TZID:Europe/Berlin
LOCATION:Marienkirche Marienkirche
SUMMARY:»Welt in Unordnung - Gerechter Friede im Blick«
DESCRIPTION: Pfarrer Dr. Lukas Ohly\,  der neben seinem Pfarramt Dozent für Theologische Ethik an der Frankfurter Goethe-Universität ist\,  wird am 19. März\,  dem 81. Gedenktag der Bombardierung Hanaus\,  in der Marienkirche die Friedensdenkschrift der Evangelischen Kirche in Deutschland (EKD) vorstellen. Sie trägt den Titel „Welt in Unordnung – Gerechter Friede im[..]\nhttps://kirchenkreis-hanau.de/events/welt-in-unordnung-gerechter-friede-im-blick/
URL:https://kirchenkreis-hanau.de/events/welt-in-unordnung-gerechter-friede-im-blick/
END:VEVENT
END:VCALENDAR