BEGIN:VCALENDAR
VERSION:2.0
PRODID:-//eventon.com NONSGML v1.0//EN
BEGIN:VEVENT
UID:69e750735c32c
DTSTAMP:20260421T122451
DTSTART:20260311T160000Z
DTEND:20260311T225000Z
TZID:Europe/Berlin
LOCATION:Neue Johanneskirche Frankfurter Landstraße 17\,  63452 Hanau
SUMMARY:Trauercafé Pusteblume
DESCRIPTION: Der Verlust eines geliebten Menschen oder auch eines Tieres wiegt schwer. Jede Trauer ist anders. Im Laufe eines Lebens nehmen wir viele Abschiede\,  sie bewegen uns\,  wir tragen sie in uns\,  sie prägen unser Leben. Gespräche in der Gruppe und im Miteinander können helfen den eigenen Trauerweg zu finden und[..]\nhttps://kirchenkreis-hanau.de/events/trauercafe-pusteblume-6/
URL:https://kirchenkreis-hanau.de/events/trauercafe-pusteblume-6/
END:VEVENT
END:VCALENDAR