BEGIN:VCALENDAR
VERSION:2.0
PRODID:-//eventon.com NONSGML v1.0//EN
BEGIN:VEVENT
UID:69e7502a94748
DTSTAMP:20260421T122338
DTSTART:20260531T083000Z
DTEND:20260531T215000Z
TZID:Europe/Berlin
LOCATION:Neue Johanneskirche Frankfurter Landstraße 17\,  63452 Hanau
SUMMARY:Gottesdienst
DESCRIPTION: Gottesdienst mit Abendmahl in der Neuen Johanneskirche mit Pfarrerin Milina Reichardt-Hahn.\nhttps://kirchenkreis-hanau.de/events/gottesdienst-112/
URL:https://kirchenkreis-hanau.de/events/gottesdienst-112/
END:VEVENT
END:VCALENDAR