BEGIN:VCALENDAR
VERSION:2.0
PRODID:-//eventon.com NONSGML v1.0//EN
BEGIN:VEVENT
UID:69e7509914bab
DTSTAMP:20260421T122529
DTSTART:20260815T083000Z
DTEND:20260815T215000Z
TZID:Europe/Berlin
LOCATION:Neue Johanneskirche Frankfurter Landstraße 17\,  63452 Hanau
SUMMARY:Gottesdienst an Pfingstsonntag
DESCRIPTION: Gottesdienst mit Vorstellung der diesjährigen Konfirmandinnen und Konfirmanden. Pfarrer Dr. W. Kahl\nhttps://kirchenkreis-hanau.de/events/gottesdienst-an-pfingstsonntag/
URL:https://kirchenkreis-hanau.de/events/gottesdienst-an-pfingstsonntag/
END:VEVENT
END:VCALENDAR