BEGIN:VCALENDAR
VERSION:2.0
PRODID:-//eventon.com NONSGML v1.0//EN
BEGIN:VEVENT
UID:69e73da2d76ec
DTSTAMP:20260421T110434
DTSTART:20260516T160000Z
DTEND:20260516T215000Z
TZID:Europe/Berlin
LOCATION:Neue Johanneskirche Frankfurter Landstraße 17\,  63452 Hanau
SUMMARY:Taizé-Gottesdienst
DESCRIPTION: Welches Glück in der Kraft des gemeinsamen Gebets liegt\,  kann entdecken\,  wer sich auf die Spuren der Communité von Taizé begibt. Einfachheit und Tiefe dieser Form des Gebets berühren viele Menschen. Die Wiederholung der meditativen Gesänge stiftet Gemeinschaft\,  in kurzen Bibeltexten und in der Stille tun sich die Quellen des[..]\nhttps://kirchenkreis-hanau.de/events/taize-gottesdienst-4/
URL:https://kirchenkreis-hanau.de/events/taize-gottesdienst-4/
END:VEVENT
END:VCALENDAR