BEGIN:VCALENDAR
VERSION:2.0
PRODID:-//eventon.com NONSGML v1.0//EN
BEGIN:VEVENT
UID:69e754925bbad
DTSTAMP:20260421T124226
DTSTART:20260510T083000Z
DTEND:20260510T215000Z
TZID:Europe/Berlin
LOCATION:Neue Johanneskirche Frankfurter Landstraße 17\,  63452 Hanau
SUMMARY:Gottesdienst
DESCRIPTION: Gottesdienst in der Neuen Johanneskirche mit Pfarrer W. Bromme.\nhttps://kirchenkreis-hanau.de/events/gottesdienst-110/
URL:https://kirchenkreis-hanau.de/events/gottesdienst-110/
END:VEVENT
END:VCALENDAR