BEGIN:VCALENDAR
VERSION:2.0
PRODID:-//eventon.com NONSGML v1.0//EN
BEGIN:VEVENT
UID:69e74135f10a0
DTSTAMP:20260421T111949
DTSTART:20260426T083000Z
DTEND:20260426T215000Z
TZID:Europe/Berlin
LOCATION:Neue Johanneskirche Frankfurter Landstraße 17\,  63452 Hanau
SUMMARY:Gottesdienst
DESCRIPTION: Gottesdienst mit Abendmahl in der Neuen Johanneskirche mit Pfarrer Daniel Geiss.\nhttps://kirchenkreis-hanau.de/events/gottesdienst-109/
URL:https://kirchenkreis-hanau.de/events/gottesdienst-109/
END:VEVENT
END:VCALENDAR