BEGIN:VCALENDAR
VERSION:2.0
PRODID:-//eventon.com NONSGML v1.0//EN
BEGIN:VEVENT
UID:69e7682c3e12d
DTSTAMP:20260421T140604
DTSTART:20260406T083000Z
DTEND:20260406T215000Z
TZID:Europe/Berlin
LOCATION:Neue Johanneskirche Frankfurter Landstraße 17\,  63452 Hanau
SUMMARY:Familiengottesdienst
DESCRIPTION: Ein Gottesdienst für Groß und Klein\,  eine spannende Ostereiersuche und ein leckeres Osterfrühstück: All das gibt es am Ostermontag\,  den 06. April\,  ab 10:30 Uhr\,  in der Neuen Johanneskirche. Wir laden alle Familien – ob mit kleinen oder größeren Kindern – herzlich ein\,  vorbeizukommen\,  mitzufeiern und den Ostermontag gemeinsam mit[..]\nhttps://kirchenkreis-hanau.de/events/familiengottesdienst-5/
URL:https://kirchenkreis-hanau.de/events/familiengottesdienst-5/
END:VEVENT
END:VCALENDAR