BEGIN:VCALENDAR
VERSION:2.0
PRODID:-//eventon.com NONSGML v1.0//EN
BEGIN:VEVENT
UID:69e773174aa50
DTSTAMP:20260421T145239
DTSTART:20260405T040000Z
DTEND:20260405T215000Z
TZID:Europe/Berlin
LOCATION:Neue Johanneskirche Frankfurter Landstraße 17\,  63452 Hanau
SUMMARY:Feier der Osternacht
DESCRIPTION: Drei Aufbrüche am Ostermorgen: Ehe die Sonne aufgeht\,  sammeln wir uns in der dunklen Kirche\,  in der kaum etwas zu sehen ist. In der Bibel wird von Maria Magdalena erzählt\,  sie habe am Ostermorgen den Herrn gesehen. „Den Herrn gesehen“ – wer von uns kann das schon sagen? Von drei[..]\nhttps://kirchenkreis-hanau.de/events/feier-der-osternacht-3/
URL:https://kirchenkreis-hanau.de/events/feier-der-osternacht-3/
END:VEVENT
END:VCALENDAR