BEGIN:VCALENDAR
VERSION:2.0
PRODID:-//eventon.com NONSGML v1.0//EN
BEGIN:VEVENT
UID:69e4d78c720b3
DTSTAMP:20260419T152428
DTSTART:20260403T083000Z
DTEND:20260403T215000Z
TZID:Europe/Berlin
LOCATION:Neue Johanneskirche Frankfurter Landstraße 17\,  63452 Hanau
SUMMARY:Gottesdienst
DESCRIPTION: Gottesdienst an Karfreitag in der Neuen Johanneskirche mit Pfarrerin Milina Reichardt-Hahn.\nhttps://kirchenkreis-hanau.de/events/gottesdienst-107/
URL:https://kirchenkreis-hanau.de/events/gottesdienst-107/
END:VEVENT
END:VCALENDAR