BEGIN:VCALENDAR
VERSION:2.0
PRODID:-//eventon.com NONSGML v1.0//EN
BEGIN:VEVENT
UID:69e767bc79780
DTSTAMP:20260421T140412
DTSTART:20260321T170000Z
DTEND:20260321T225000Z
TZID:Europe/Berlin
LOCATION:Neue Johanneskirche Frankfurter Landstraße 17\,  63452 Hanau
SUMMARY:Gottesdienst
DESCRIPTION: Gottesdienst mit Abendmahl in der Neuen Johanneskirche. Pfrin. M. Reichardt-Hahn\nhttps://kirchenkreis-hanau.de/events/gottesdienst-106/
URL:https://kirchenkreis-hanau.de/events/gottesdienst-106/
END:VEVENT
END:VCALENDAR