BEGIN:VCALENDAR
VERSION:2.0
PRODID:-//eventon.com NONSGML v1.0//EN
BEGIN:VEVENT
UID:69e7505d54c6f
DTSTAMP:20260421T122429
DTSTART:20260315T093000Z
DTEND:20260315T225000Z
TZID:Europe/Berlin
LOCATION:Neue Johanneskirche Frankfurter Landstraße 17\,  63452 Hanau
SUMMARY:Frühlingsgottesdienst
DESCRIPTION: Frühlings-Gottesdienst mit der Tageseinrichtung für Kinder (Tafki) Johanneskirche. Pfrin. M. Reichardt-Hahn\nhttps://kirchenkreis-hanau.de/events/fruehlingsgottesdienst-2/
URL:https://kirchenkreis-hanau.de/events/fruehlingsgottesdienst-2/
END:VEVENT
END:VCALENDAR