BEGIN:VCALENDAR
VERSION:2.0
PRODID:-//eventon.com NONSGML v1.0//EN
BEGIN:VEVENT
UID:69e750472a468
DTSTAMP:20260421T122407
DTSTART:20260517T083000Z
DTEND:20260517T215000Z
TZID:Europe/Berlin
LOCATION:Marienkirche Marienkirche
SUMMARY:Gottesdienst
DESCRIPTION: Gottesdienst in der Marienkirche. Pfarrerin Milina Reichardt-Hahn.\nhttps://kirchenkreis-hanau.de/events/gottesdienst-104/
URL:https://kirchenkreis-hanau.de/events/gottesdienst-104/
END:VEVENT
END:VCALENDAR