BEGIN:VCALENDAR
VERSION:2.0
PRODID:-//eventon.com NONSGML v1.0//EN
BEGIN:VEVENT
UID:69e73d3ec635b
DTSTAMP:20260421T110254
DTSTART:20260503T083000Z
DTEND:20260503T215000Z
TZID:Europe/Berlin
LOCATION:Marienkirche Marienkirche
SUMMARY:Gottesdienst
DESCRIPTION: Gottesdienst mit Abendmahl in der Marienkirche. Pfarrer Daniel Geiss\nhttps://kirchenkreis-hanau.de/events/gottesdienst-103/
URL:https://kirchenkreis-hanau.de/events/gottesdienst-103/
END:VEVENT
END:VCALENDAR