BEGIN:VCALENDAR
VERSION:2.0
PRODID:-//eventon.com NONSGML v1.0//EN
BEGIN:VEVENT
UID:69e4d5b6c7336
DTSTAMP:20260419T151638
DTSTART:20260531T160000Z
DTEND:20260531T215000Z
TZID:Europe/Berlin
LOCATION:Marienkirche Marienkirche
SUMMARY:Int. Gospel-Gottesdienst
DESCRIPTION: Bewegende und mitreißende Klänge warten bei unseren internationalen Gospel-Gottesdiensten in Zusammenarbeit mit der Charity-Church Hanau. In den lebendigen Gottesdiensten sorgen verschiedene Gospelchöre und Bands aus der Region für einen besonderen Rahmen. Der Gospel-Gottesdienst am 31. Mai rundet unser großes Afrika-Fest in und an der Alten Johanneskirche (30. und 31. Mai)[..]\nhttps://kirchenkreis-hanau.de/events/int-gospel-gottesdienst-11/
URL:https://kirchenkreis-hanau.de/events/int-gospel-gottesdienst-11/
END:VEVENT
END:VCALENDAR