BEGIN:VCALENDAR
VERSION:2.0
PRODID:-//eventon.com NONSGML v1.0//EN
BEGIN:VEVENT
UID:69e73d246495b
DTSTAMP:20260421T110228
DTSTART:20260426T160000Z
DTEND:20260426T215000Z
TZID:Europe/Berlin
LOCATION:Marienkirche Marienkirche
SUMMARY:Int. Gospel-Gottesdienst
DESCRIPTION: Bewegende und mitreißende Klänge warten bei unseren internationalen Gospel-Gottesdiensten in Zusammenarbeit mit der Charity-Church Hanau. In den lebendigen Gottesdiensten sorgen verschiedene Gospelchöre und Bands aus der Region für einen besonderen Rahmen. Der Eintritt ist frei\,  über eine Spende zugunsten der Marienkirche freuen wir uns.\nhttps://kirchenkreis-hanau.de/events/int-gospel-gottesdienst-10/
URL:https://kirchenkreis-hanau.de/events/int-gospel-gottesdienst-10/
END:VEVENT
END:VCALENDAR