BEGIN:VCALENDAR
VERSION:2.0
PRODID:-//eventon.com NONSGML v1.0//EN
BEGIN:VEVENT
UID:69e75070b4593
DTSTAMP:20260421T122448
DTSTART:20260412T083000Z
DTEND:20260412T215000Z
TZID:Europe/Berlin
LOCATION:Marienkirche Marienkirche
SUMMARY:Gottesdienst
DESCRIPTION: Gottesdienst mit Pröpstin Sabine Kropf-Brandau in der Marienkirche.\nhttps://kirchenkreis-hanau.de/events/gottesdienst-102/
URL:https://kirchenkreis-hanau.de/events/gottesdienst-102/
END:VEVENT
END:VCALENDAR