BEGIN:VCALENDAR
VERSION:2.0
PRODID:-//eventon.com NONSGML v1.0//EN
BEGIN:VEVENT
UID:69e49dfc1489e
DTSTAMP:20260419T111852
DTSTART:20260402T160000Z
DTEND:20260402T215000Z
TZID:Europe/Berlin
LOCATION:Marienkirche Marienkirche
SUMMARY:Gottesdienst
DESCRIPTION: Am Tag vor seiner Kreuzigung traf sich Jesus zum letzten Mal mit seinen Jüngern\,  um am Abend gemeinsam das Pesach-Mahl einzunehmen. In unserer Gemeinde gibt es seit vielen Jahren die schöne Tradition\,  in Erinnerung an Jesu letzte Mahlzeit als Gemeinde zusammen zu kommen\,  Tischabendmahl zu feiern\,  Grüne Soße zu essen[..]\nhttps://kirchenkreis-hanau.de/events/gottesdienst-99/
URL:https://kirchenkreis-hanau.de/events/gottesdienst-99/
END:VEVENT
END:VCALENDAR